BEGIN:VCALENDAR
VERSION:2.0
PRODID:-//LRREN - ECPv5.9.0//NONSGML v1.0//EN
CALSCALE:GREGORIAN
METHOD:PUBLISH
X-WR-CALNAME:LRREN
X-ORIGINAL-URL:https://lrren.org.lr
X-WR-CALDESC:Events for LRREN
BEGIN:VTIMEZONE
TZID:UTC
BEGIN:STANDARD
TZOFFSETFROM:+0000
TZOFFSETTO:+0000
TZNAME:UTC
DTSTART:20200101T000000
END:STANDARD
END:VTIMEZONE
BEGIN:VEVENT
DTSTART;TZID=UTC:20201210T200000
DTEND;TZID=UTC:20201210T200000
DTSTAMP:20210826T081623
CREATED:20200909T040227Z
LAST-MODIFIED:20201117T034759Z
UID:2060-1607630400-1607630400@lrren.org.lr
SUMMARY:Use Hashtags To Support Online
DESCRIPTION:Well\, I got better. Ah\, now we see the violence inherent in the system! The swallow may fly south with the sun\, and the house martin or the plover may seek warmer climes in winter\, yet these are not strangers to our land. It’s only a model. It’s only a model.
URL:https://lrren.org.lr/event/use-hashtags-to-support-online/
LOCATION:Party Haus\, Los Angelos\, 90013\, United States
CATEGORIES:Nightlife,Party
ATTACH;FMTTYPE=image/jpeg:https://lrren.org.lr/wp-content/uploads/2020/09/give-5.jpg
ORGANIZER;CN="Famous%20Amos":MAILTO:cookies@aol.com
END:VEVENT
END:VCALENDAR