BEGIN:VCALENDAR
VERSION:2.0
PRODID:-//LRREN - ECPv5.9.0//NONSGML v1.0//EN
CALSCALE:GREGORIAN
METHOD:PUBLISH
X-WR-CALNAME:LRREN
X-ORIGINAL-URL:https://lrren.org.lr
X-WR-CALDESC:Events for LRREN
BEGIN:VTIMEZONE
TZID:UTC
BEGIN:STANDARD
TZOFFSETFROM:+0000
TZOFFSETTO:+0000
TZNAME:UTC
DTSTART:20210101T000000
END:STANDARD
END:VTIMEZONE
BEGIN:VEVENT
DTSTART;VALUE=DATE:20210702
DTEND;VALUE=DATE:20210703
DTSTAMP:20210826T081621
CREATED:20200909T040221Z
LAST-MODIFIED:20201117T034733Z
UID:2055-1625184000-1625270399@lrren.org.lr
SUMMARY:Help Charities Without Leaving Home
DESCRIPTION:I’ve done everything the Bible says — even the stuff that contradicts the other stuff! Our differences are only skin deep\, but our sames go down to the bone. And now\, in the spirit of the season: start shopping. And for every dollar of Krusty merchandise you buy\, I will be nice to a sick kid. For legal purposes\, sick kids may include hookers with a cold. And here I am using my own lungs like a sucker. What good is money if it can’t inspire terror in your fellow man? Homer no function beer well without.
URL:https://lrren.org.lr/event/help-charities-without-leaving-home/
LOCATION:Winchester Mystery House\, San Jose\, 95128\, United States
CATEGORIES:Conference
ATTACH;FMTTYPE=image/jpeg:https://lrren.org.lr/wp-content/uploads/2020/09/give-14.jpg
ORGANIZER;CN="Barney%20Stinson":MAILTO:barney@legendary.com
END:VEVENT
BEGIN:VEVENT
DTSTART;VALUE=DATE:20210908
DTEND;VALUE=DATE:20210909
DTSTAMP:20210826T081621
CREATED:20200909T040228Z
LAST-MODIFIED:20201117T040422Z
UID:2061-1631059200-1631145599@lrren.org.lr
SUMMARY:Help Charities Without Leaving Home
DESCRIPTION:Who’s that then? Shh! Knights\, I bid you welcome to your new home. Let us ride to Camelot! Ah\, now we see the violence inherent in the system! The Lady of the Lake\, her arm clad in the purest shimmering samite\, held aloft Excalibur from the bosom of the water\, signifying by divine providence that I\, Arthur\, was to carry Excalibur. That is why I am your king. Camelot!
URL:https://lrren.org.lr/event/help-charities-without-leaving-home-2/
LOCATION:Bamboo Fresh\, Lahaina\, 96761\, United States
CATEGORIES:Conference
ATTACH;FMTTYPE=image/jpeg:https://lrren.org.lr/wp-content/uploads/2020/09/give16.jpg
END:VEVENT
BEGIN:VEVENT
DTSTART;TZID=UTC:20210915T133000
DTEND;TZID=UTC:20210915T133000
DTSTAMP:20210826T081621
CREATED:20200909T040225Z
LAST-MODIFIED:20201117T040410Z
UID:2057-1631712600-1631712600@lrren.org.lr
SUMMARY:Provide Pure Water And Fresh Food
DESCRIPTION:Oh God\, my uncle. How am I ever gonna explain this? The plans you refer to will soon be back in our hands. I suggest you try it again\, Luke. This time\, let go your conscious self and act on instinct. I want to come with you to Alderaan. There’s nothing for me here now. I want to learn the ways of the Force and be a Jedi\, like my father before me. As you wish. I don’t know what you’re talking about. I am a member of the Imperial Senate on a diplomatic mission to Alderaan–
URL:https://lrren.org.lr/event/provide-pure-water-and-fresh-food-fo/
LOCATION:The Corn Palace\, Mitchell\, 57301\, United States
CATEGORIES:Conference
ATTACH;FMTTYPE=image/jpeg:https://lrren.org.lr/wp-content/uploads/2020/09/give-4.jpg
ORGANIZER;CN="Sammy%20Sosa":MAILTO:baseball@hotmail.com
END:VEVENT
BEGIN:VEVENT
DTSTART;TZID=UTC:20210920T180000
DTEND;TZID=UTC:20210920T180000
DTSTAMP:20210826T081621
CREATED:20200909T040219Z
LAST-MODIFIED:20201117T040432Z
UID:2053-1632160800-1632160800@lrren.org.lr
SUMMARY:Use Hashtags To Support Online
DESCRIPTION:Look\, my liege! Shut up! Will you shut up?! What a strange person. But you are dressed as one…I blow my nose at you\, so-called Ah-thoor Keeng\, you and all your silly English K-n-n-n-n-n-n-n-niggits! The Lady of the Lake\, her arm clad in the purest shimmering samite\, held aloft Excalibur from the bosom of the water\, signifying by divine providence that I\, Arthur\, was to carry Excalibur. That is why I am your king.
URL:https://lrren.org.lr/event/use-hashtags-to-support-online-2/
LOCATION:The Corn Palace\, Mitchell\, 57301\, United States
CATEGORIES:Party
ATTACH;FMTTYPE=image/jpeg:https://lrren.org.lr/wp-content/uploads/2020/09/give-17.jpg
ORGANIZER;CN="Mr.%20Ed":MAILTO:neigh@gmail.com
END:VEVENT
BEGIN:VEVENT
DTSTART;TZID=UTC:20210929T170000
DTEND;TZID=UTC:20210929T170000
DTSTAMP:20210826T081621
CREATED:20200909T040221Z
LAST-MODIFIED:20201117T040452Z
UID:2056-1632934800-1632934800@lrren.org.lr
SUMMARY:Excitement From A Quote About Charity
DESCRIPTION:Dear Mr. President\, There are too many states nowadays. Please\, eliminate three. P.S. I am not a crackpot. You don’t win friends with salad. I’m a Spalding Gray in a Rick Dees world. D’oh. A lifetime of working with nuclear power has left me with a healthy green glow…and left me as impotent as a Nevada boxing commissioner. No children have ever meddled with the Republican Party and lived to tell about it.
URL:https://lrren.org.lr/event/excitement-from-a-quote-about-charity-2/
CATEGORIES:Conference
ATTACH;FMTTYPE=image/jpeg:https://lrren.org.lr/wp-content/uploads/2020/09/give-19.jpg
ORGANIZER;CN="Sammy%20Sosa":MAILTO:baseball@hotmail.com
END:VEVENT
BEGIN:VEVENT
DTSTART;TZID=UTC:20210929T200000
DTEND;TZID=UTC:20210929T200000
DTSTAMP:20210826T081621
CREATED:20200909T040227Z
LAST-MODIFIED:20201117T040443Z
UID:2059-1632945600-1632945600@lrren.org.lr
SUMMARY:UK Will Have School Lesson
DESCRIPTION:Hey\, Luke! May the Force be with you. Look\, I ain’t in this for your revolution\, and I’m not in it for you\, Princess. I expect to be well paid. I’m in it for the money. Ye-ha! What good is a reward if you ain’t around to use it? Besides\, attacking that battle station ain’t my idea of courage. It’s more like…suicide. Hey\, Luke! May the Force be with you. But with the blast shield down\, I can’t even see! How am I supposed to fight?
URL:https://lrren.org.lr/event/uk-will-have-school-lesson-2/
LOCATION:Doug Fir Lounge\, Portland\, 97214\, United States
CATEGORIES:Nightlife
ATTACH;FMTTYPE=image/jpeg:https://lrren.org.lr/wp-content/uploads/2020/09/give-18.jpg
ORGANIZER;CN="Elvis%20Presley":MAILTO:rocknroll@hotmail.com
END:VEVENT
BEGIN:VEVENT
DTSTART;TZID=UTC:20211012T153000
DTEND;TZID=UTC:20211012T153000
DTSTAMP:20210826T081621
CREATED:20200909T040219Z
LAST-MODIFIED:20201117T040307Z
UID:2052-1634052600-1634052600@lrren.org.lr
SUMMARY:UK Will Have School Lesson
DESCRIPTION:Why do you think that she is a witch? He hasn’t got stuff all over him. Well\, I didn’t vote for you. A newt? Look\, my liege! I don’t want to talk to you no more\, you empty-headed animal food trough water! I fart in your general direction! Your mother was a hamster and your father smelt of elderberries! Now leave before I am forced to taunt you a second time!
URL:https://lrren.org.lr/event/uk-will-have-school-lesson/
LOCATION:Krispy Kreme\, St. Louis\, 63129
CATEGORIES:Party
ATTACH;FMTTYPE=image/jpeg:https://lrren.org.lr/wp-content/uploads/2020/09/give-15.jpg
END:VEVENT
BEGIN:VEVENT
DTSTART;TZID=UTC:20211022T100000
DTEND;TZID=UTC:20211022T100000
DTSTAMP:20210826T081621
CREATED:20200909T040220Z
LAST-MODIFIED:20201117T040318Z
UID:2054-1634896800-1634896800@lrren.org.lr
SUMMARY:Excitement From A Quote About Charity
DESCRIPTION:What’s the point of going out? We’re just going to wind up back here anyway. I’m going to the back seat of my car\, with the woman I love\, and I won’t be back for ten minutes! And now\, in the spirit of the season: start shopping. And for every dollar of Krusty merchandise you buy\, I will be nice to a sick kid. For legal purposes\, sick kids may include hookers with a cold. The Internet King? I wonder if he could provide faster nudity… Yes! I am a citizen! Now which way to the welfare office? I’m kidding\, I’m kidding. I work\, I work.
URL:https://lrren.org.lr/event/excitement-from-a-quote-about-charity/
LOCATION:Winchester Mystery House\, San Jose\, 95128\, United States
CATEGORIES:Conference
ATTACH;FMTTYPE=image/jpeg:https://lrren.org.lr/wp-content/uploads/2020/09/give-3.jpg
END:VEVENT
BEGIN:VEVENT
DTSTART;TZID=UTC:20211117T120000
DTEND;TZID=UTC:20211117T120000
DTSTAMP:20210826T081621
CREATED:20200909T040226Z
LAST-MODIFIED:20201117T040333Z
UID:2058-1637150400-1637150400@lrren.org.lr
SUMMARY:Provide Pure Water And Fresh Food For Syrian
DESCRIPTION:I have traced the Rebel spies to her. Now she is my only link to finding their secret base. What?! I care. So\, what do you think of her\, Han? The Force is strong with this one. I have you now. But with the blast shield down\, I can’t even see! How am I supposed to fight? Red Five standing by.
URL:https://lrren.org.lr/event/provide-pure-water-and-fresh-food-for-syrian/
LOCATION:Musee D’Orsay\, Paris\, 75007\, France
CATEGORIES:Meeting
ATTACH;FMTTYPE=image/jpeg:https://lrren.org.lr/wp-content/uploads/2020/09/give-7.jpg
END:VEVENT
END:VCALENDAR